BEGIN:VCALENDAR
VERSION:2.0
PRODID:-//CASNews//Veranstaltungskalender//DE
CALSCALE:GREGORIAN
METHOD:PUBLISH
X-WR-CALNAME:CASNews Veranstaltungen
X-WR-TIMEZONE:Europe/Berlin
BEGIN:VTIMEZONE
TZID:Europe/Berlin
BEGIN:DAYLIGHT
TZOFFSETFROM:+0100
TZOFFSETTO:+0200
DTSTART:19700329T020000
RRULE:FREQ=YEARLY;BYMONTH=3;BYDAY=-1SU
END:DAYLIGHT
BEGIN:STANDARD
TZOFFSETFROM:+0200
TZOFFSETTO:+0100
DTSTART:19701025T030000
RRULE:FREQ=YEARLY;BYMONTH=10;BYDAY=-1SU
END:STANDARD
END:VTIMEZONE
BEGIN:VEVENT
UID:event-32@casnews.de
DTSTAMP:20260420T051639Z
DTSTART:20260424T190000
DTEND:20260424T210000
SUMMARY:Mitgliederversammlung der DLRG
DESCRIPTION:Die DLRG Kreisgruppe Castrop-Rauxel e.V. lädt ihre Mitglieder zur diesjährigen Mitgliederversammlung ein. Die Veranstaltung findet am Freitag\, 24. April 2026\, statt.\n\nBeginn ist um 19:00 Uhr in der Mensa der Marktschule Ickern. Auf der Tagesordnung stehen unter anderem die Berichte des Vorstandes sowie Ehrungen.\n\nDie Versammlung richtet sich ausschließlich an Mitglieder der DLRG. Stimmberechtigt sind alle Mitglieder\, die das 16. Lebensjahr vollendet haben.\n\nDie Mitgliederversammlung bietet den Vereinsmitgliedern die Möglichkeit\, sich über die aktuelle Arbeit der DLRG in Castrop-Rauxel zu informieren und an Entscheidungen mitzuwirken.\\n\\nMehr Infos: https://casnews.de/kalender_detail.cfm?id=32
LOCATION:Marktschule Ickern - Mensa\, Kirchstraße 56
URL:https://casnews.de/kalender_detail.cfm?id=32
STATUS:CONFIRMED
ORGANIZER;CN=CASNews:MAILTO:info@casnews.de
END:VEVENT
END:VCALENDAR