BEGIN:VCALENDAR
VERSION:2.0
PRODID:-//CASNews//Veranstaltungskalender//DE
CALSCALE:GREGORIAN
METHOD:PUBLISH
X-WR-CALNAME:CASNews Veranstaltungen
X-WR-TIMEZONE:Europe/Berlin
BEGIN:VTIMEZONE
TZID:Europe/Berlin
BEGIN:DAYLIGHT
TZOFFSETFROM:+0100
TZOFFSETTO:+0200
DTSTART:19700329T020000
RRULE:FREQ=YEARLY;BYMONTH=3;BYDAY=-1SU
END:DAYLIGHT
BEGIN:STANDARD
TZOFFSETFROM:+0200
TZOFFSETTO:+0100
DTSTART:19701025T030000
RRULE:FREQ=YEARLY;BYMONTH=10;BYDAY=-1SU
END:STANDARD
END:VTIMEZONE
BEGIN:VEVENT
UID:event-30@casnews.de
DTSTAMP:20260422T143043Z
DTSTART:20260506T090000
DTEND:20260506T110000
SUMMARY:Seniorenfrühstück mit Vortrag
DESCRIPTION:Das Agora Kultur- und Bildungszentrum lädt am Mittwoch\, 6. Mai 2026\, zu einem Seniorenfrühstück mit Vortrag ein. Die Veranstaltung findet von 9 bis 11 Uhr im Mehrgenerationenhaus an der Zechenstraße 2A statt.\n\nIm Mittelpunkt steht das Thema „Politische Teilhabe von armutsbetroffenen Menschen“. Dabei geht es um die Frage\, wie Menschen\, die von Armut betroffen sind\, stärker in gesellschaftliche und politische Prozesse eingebunden werden können.\n\nReferentinnen sind Frau Diring und Frau Romberg von der Caritas Castrop-Rauxel. Sie stellen im Rahmen des Treffens die Ergebnisse und Erfahrungen eines entsprechenden Projekts vor. Dabei wird deutlich\, welche Rolle der Austausch zwischen Betroffenen und politischen Akteuren für Mitgestaltung und Beteiligung spielen kann.\n\nAnhand konkreter Beispiele – etwa aus der Arbeit der Castroper Tafel\, der Suppenküche oder von Sprachkursen – wird aufgezeigt\, wie Gespräche über Bedürfnisse und Sorgen den Alltag erleichtern und neue Perspektiven eröffnen können.\n\nDas Seniorenfrühstück bietet zugleich Raum für Begegnung\, Austausch und gemeinsames Gespräch. Die Veranstaltung richtet sich an alle Interessierten\, die sich mit dem Thema auseinandersetzen oder einfach in geselliger Runde teilnehmen möchten.\n\nDie Teilnahme kostet 6 Euro. Eine telefonische Anmeldung ist erforderlich und unter 02305 – 923040 möglich.\\n\\nMehr Infos: https://casnews.de/kalender_detail.cfm?id=30
LOCATION:Agora Kulturzentrum\, Zechenstraße 2a
URL:https://casnews.de/kalender_detail.cfm?id=30
STATUS:CONFIRMED
ORGANIZER;CN=CASNews:MAILTO:info@casnews.de
END:VEVENT
END:VCALENDAR