BEGIN:VCALENDAR
VERSION:2.0
PRODID:-//CASNews//Veranstaltungskalender//DE
CALSCALE:GREGORIAN
METHOD:PUBLISH
X-WR-CALNAME:CASNews Veranstaltungen
X-WR-TIMEZONE:Europe/Berlin
BEGIN:VTIMEZONE
TZID:Europe/Berlin
BEGIN:DAYLIGHT
TZOFFSETFROM:+0100
TZOFFSETTO:+0200
DTSTART:19700329T020000
RRULE:FREQ=YEARLY;BYMONTH=3;BYDAY=-1SU
END:DAYLIGHT
BEGIN:STANDARD
TZOFFSETFROM:+0200
TZOFFSETTO:+0100
DTSTART:19701025T030000
RRULE:FREQ=YEARLY;BYMONTH=10;BYDAY=-1SU
END:STANDARD
END:VTIMEZONE
BEGIN:VEVENT
UID:event-24@casnews.de
DTSTAMP:20260419T140234Z
DTSTART:20260418T110000
DTEND:20260418T170000
SUMMARY:Löschzug Henrichenburg - Tag der offenen Tür
DESCRIPTION:Der Löschzug Henrichenburg der Freiwilligen Feuerwehr Castrop-Rauxel lädt am Samstag\, 18. April 2026\, zum Tag der offenen Tür ein. Die Veranstaltung findet von 11.00 bis 17.00 Uhr am Feuerwehrgerätehaus an der Hedwig-Kiesekamp-Straße 7 statt.\n\nBesucher haben an diesem Tag die Möglichkeit\, das Gerätehaus zu besichtigen sowie Einsatzfahrzeuge und Ausrüstung aus nächster Nähe kennenzulernen. Mitglieder des Löschzugs stehen vor Ort für Gespräche zur Verfügung und geben Einblicke in ihre ehrenamtliche Arbeit.\n\nNeben der Einsatzabteilung stellt sich auch die Jugendfeuerwehr vor. Für Jugendliche ab 12 Jahren gibt es noch freie Plätze. Interessierte können sich direkt vor Ort über die Aktivitäten und Möglichkeiten der Mitarbeit informieren.\n\nMit dem Tag der offenen Tür möchten die Henrichenburger Brandschützer die vielfältigen Aufgaben der Feuerwehr vorstellen und gleichzeitig für ein Engagement im Ehrenamt werben.\n\nAuch für das leibliche Wohl ist gesorgt: Besucher können sich auf ein Angebot an Speisen und Getränken freuen.\\n\\nMehr Infos: https://casnews.de/kalender_detail.cfm?id=24
LOCATION:Feuerwehrgerätehaus\, Hedwig-Kiesekamp-Straße 7
URL:https://casnews.de/kalender_detail.cfm?id=24
STATUS:CONFIRMED
ORGANIZER;CN=CASNews:MAILTO:info@casnews.de
END:VEVENT
END:VCALENDAR